BEGIN:VCALENDAR
VERSION:2.0
PRODID:-//Lion Whale Music - ECPv5.2.0//NONSGML v1.0//EN
CALSCALE:GREGORIAN
METHOD:PUBLISH
X-WR-CALNAME:Lion Whale Music
X-ORIGINAL-URL:https://lionwhalemusic.com
X-WR-CALDESC:Events for Lion Whale Music
BEGIN:VTIMEZONE
TZID:UTC
BEGIN:STANDARD
TZOFFSETFROM:+0000
TZOFFSETTO:+0000
TZNAME:UTC
DTSTART:20150101T000000
END:STANDARD
END:VTIMEZONE
BEGIN:VEVENT
DTSTART;TZID=UTC:20150110T100000
DTEND;TZID=UTC:20150110T130000
DTSTAMP:20260419T153752
CREATED:20141120T153337Z
LAST-MODIFIED:20141120T153358Z
UID:281-1420884000-1420894800@lionwhalemusic.com
SUMMARY:Winter Student Recital
DESCRIPTION:Come hear LW students perform for their friends and family. Admission is free\, so bring a friend! Open to the public.
URL:https://lionwhalemusic.com/event/winter-student-recital/
LOCATION:The Presbyterian Church on the Hill\, 10 Cold Indian Springs Rd\, Ocean Township\, NJ\, United States
END:VEVENT
END:VCALENDAR