BEGIN:VCALENDAR
VERSION:2.0
PRODID:-//Lion Whale Music - ECPv5.2.0//NONSGML v1.0//EN
CALSCALE:GREGORIAN
METHOD:PUBLISH
X-WR-CALNAME:Lion Whale Music
X-ORIGINAL-URL:https://lionwhalemusic.com
X-WR-CALDESC:Events for Lion Whale Music
BEGIN:VTIMEZONE
TZID:UTC
BEGIN:STANDARD
TZOFFSETFROM:+0000
TZOFFSETTO:+0000
TZNAME:UTC
DTSTART:20190101T000000
END:STANDARD
END:VTIMEZONE
BEGIN:VEVENT
DTSTART;TZID=UTC:20191221T100000
DTEND;TZID=UTC:20191221T140000
DTSTAMP:20260419T140411
CREATED:20191218T132033Z
LAST-MODIFIED:20191218T132033Z
UID:653-1576922400-1576936800@lionwhalemusic.com
SUMMARY:Winter Student Recital
DESCRIPTION:It’s here again! On Saturday\, January 25\, Monmouth County families will once again flock together to hear LionWhale students perform excellent music on a variety of instruments. \n  \nAll are welcome\, and ADMISSION IS FREE\, so bring your friends and neighbors!
URL:https://lionwhalemusic.com/event/winter-student-recital-3/
LOCATION:The Presbyterian Church on the Hill\, 10 Cold Indian Springs Rd\, Ocean Township\, NJ\, United States
CATEGORIES:Performance,Student recital
END:VEVENT
END:VCALENDAR