BEGIN:VCALENDAR
VERSION:2.0
PRODID:-//Lion Whale Music - ECPv5.2.0//NONSGML v1.0//EN
CALSCALE:GREGORIAN
METHOD:PUBLISH
X-WR-CALNAME:Lion Whale Music
X-ORIGINAL-URL:https://lionwhalemusic.com
X-WR-CALDESC:Events for Lion Whale Music
BEGIN:VTIMEZONE
TZID:UTC
BEGIN:STANDARD
TZOFFSETFROM:+0000
TZOFFSETTO:+0000
TZNAME:UTC
DTSTART:20230101T000000
END:STANDARD
END:VTIMEZONE
BEGIN:VEVENT
DTSTART;TZID=UTC:20230729T110000
DTEND;TZID=UTC:20230729T143000
DTSTAMP:20260419T170655
CREATED:20230724T192436Z
LAST-MODIFIED:20230724T192436Z
UID:756-1690628400-1690641000@lionwhalemusic.com
SUMMARY:SUMMER RECITAL!
DESCRIPTION:Cool off at the Woman’s Club of Asbury Park\, and enjoy the music of our hardworking students! Wrangle friends or family members to join you\, because this event is FREE! \n  \n 
URL:https://lionwhalemusic.com/event/summer-recital/
LOCATION:Woman’s Club of Asbury Park\, 57 Wickapecko Drive\, Ocean Twp.\, NJ\, 07712\, United States
CATEGORIES:Performance,Student recital
ATTACH;FMTTYPE=image/jpeg:https://lionwhalemusic.com/wp-content/uploads/2023/07/Summer-recital-announcement-1-e1690226618253.jpg
ORGANIZER;CN="LionWhale%20Music":MAILTO:LionWhaleMusic@gmail.com
END:VEVENT
END:VCALENDAR