BEGIN:VCALENDAR
VERSION:2.0
PRODID:-//Lion Whale Music - ECPv5.2.0//NONSGML v1.0//EN
CALSCALE:GREGORIAN
METHOD:PUBLISH
X-WR-CALNAME:Lion Whale Music
X-ORIGINAL-URL:https://lionwhalemusic.com
X-WR-CALDESC:Events for Lion Whale Music
BEGIN:VTIMEZONE
TZID:UTC
BEGIN:STANDARD
TZOFFSETFROM:+0000
TZOFFSETTO:+0000
TZNAME:UTC
DTSTART:20220101T000000
END:STANDARD
END:VTIMEZONE
BEGIN:VEVENT
DTSTART;TZID=UTC:20220709T100000
DTEND;TZID=UTC:20220709T140000
DTSTAMP:20260419T135810
CREATED:20220703T214614Z
LAST-MODIFIED:20220703T214614Z
UID:742-1657360800-1657375200@lionwhalemusic.com
SUMMARY:Summer Recital — IN PERSON!
DESCRIPTION:We’re finally back! LionWhale Music students have been practicing hard\, and they’re ready to play for you. Join us Saturday\, July 9\, at the Woman’s Club of Asbury Park for vocal\, guitar\, and piano performances. Attendance is FREE\, so bring Grandma & Grandpa! \n  \nWhere? — At the beautiful Woman’s Club of Asbury Park: 57 Wickapecko Dr.\, Ocean Twp \nWCOAP website \nWCOAP Facebook page \n  \nWhen? — First recital is at 10:00 a.m.\, the second recital is at 12:00 p.m. \n  \nHow (much)? — $0.00! \n  \nWhy? — In-person performance has numerous benefits for kids. We wrote a whole blog post about it\, check it out! CLICK HERE \n  \nWhat else? — If you’re interested\, have a look at our series of posts on performance-related topics. In addition to the link above\, we’ve got… \n…How to Be a Good Audience Member (and Why) \n…Tips on applauding like a pro \n…Working with performance anxiety
URL:https://lionwhalemusic.com/event/summer-recital-in-person/
LOCATION:Woman’s Club of Asbury Park\, 57 Wickapecko Drive\, Ocean Twp.\, NJ\, 07712\, United States
ATTACH;FMTTYPE=image/png:https://lionwhalemusic.com/wp-content/uploads/2022/07/Screen-Shot-2022-07-03-at-5.18.38-PM-e1656883250123.png
END:VEVENT
END:VCALENDAR