BEGIN:VCALENDAR
VERSION:2.0
PRODID:-//Lion Whale Music - ECPv5.2.0//NONSGML v1.0//EN
CALSCALE:GREGORIAN
METHOD:PUBLISH
X-WR-CALNAME:Lion Whale Music
X-ORIGINAL-URL:https://lionwhalemusic.com
X-WR-CALDESC:Events for Lion Whale Music
BEGIN:VTIMEZONE
TZID:UTC
BEGIN:STANDARD
TZOFFSETFROM:+0000
TZOFFSETTO:+0000
TZNAME:UTC
DTSTART:20190101T000000
END:STANDARD
END:VTIMEZONE
BEGIN:VEVENT
DTSTART;TZID=UTC:20190126T100000
DTEND;TZID=UTC:20190126T140000
DTSTAMP:20260419T153939
CREATED:20181203T143251Z
LAST-MODIFIED:20181203T143251Z
UID:629-1548496800-1548511200@lionwhalemusic.com
SUMMARY:STUDENT RECITAL\, WINTER-STYLE!
DESCRIPTION:It’s that time of year again — COLD! Bundle up and join us on Saturday\, January 26\, to be entertained by LionWhale Music’s hard-working students. Recitals will be held at 10:00 a.m. and 12:00 p.m. \nCost? It’s free\, so bring grandma and grandpa\, bring your friends\, bring your neighbors!
URL:https://lionwhalemusic.com/event/student-recital-winter-style/
LOCATION:The Presbyterian Church on the Hill\, 10 Cold Indian Springs Rd\, Ocean Township\, NJ\, United States
CATEGORIES:Performance,Student recital
END:VEVENT
END:VCALENDAR