BEGIN:VCALENDAR
VERSION:2.0
PRODID:-//Lion Whale Music - ECPv5.2.0//NONSGML v1.0//EN
CALSCALE:GREGORIAN
METHOD:PUBLISH
X-WR-CALNAME:Lion Whale Music
X-ORIGINAL-URL:https://lionwhalemusic.com
X-WR-CALDESC:Events for Lion Whale Music
BEGIN:VTIMEZONE
TZID:UTC
BEGIN:STANDARD
TZOFFSETFROM:+0000
TZOFFSETTO:+0000
TZNAME:UTC
DTSTART:20180101T000000
END:STANDARD
END:VTIMEZONE
BEGIN:VEVENT
DTSTART;TZID=UTC:20180113T100000
DTEND;TZID=UTC:20180113T123000
DTSTAMP:20260419T190502
CREATED:20171129T183415Z
LAST-MODIFIED:20171129T183436Z
UID:485-1515837600-1515846600@lionwhalemusic.com
SUMMARY:Student Recital — WINTER edition!
DESCRIPTION:Come in out of the cold and let LW students warm your heart with the fruits of their hard work. This event is free\, so bring your friends and extended family!
URL:https://lionwhalemusic.com/event/student-recital-winter-edition-2/
LOCATION:The Presbyterian Church on the Hill\, 10 Cold Indian Springs Rd\, Ocean Township\, NJ\, United States
END:VEVENT
END:VCALENDAR