BEGIN:VCALENDAR
VERSION:2.0
PRODID:-//Lion Whale Music - ECPv5.2.0//NONSGML v1.0//EN
CALSCALE:GREGORIAN
METHOD:PUBLISH
X-WR-CALNAME:Lion Whale Music
X-ORIGINAL-URL:https://lionwhalemusic.com
X-WR-CALDESC:Events for Lion Whale Music
BEGIN:VTIMEZONE
TZID:UTC
BEGIN:STANDARD
TZOFFSETFROM:+0000
TZOFFSETTO:+0000
TZNAME:UTC
DTSTART:20190101T000000
END:STANDARD
END:VTIMEZONE
BEGIN:VEVENT
DTSTART;TZID=UTC:20190629T100000
DTEND;TZID=UTC:20190629T153000
DTSTAMP:20260419T171318
CREATED:20190507T134343Z
LAST-MODIFIED:20190507T135347Z
UID:641-1561802400-1561822200@lionwhalemusic.com
SUMMARY:Student recital\, summer 2019!
DESCRIPTION:LionWhale students will flock from ALL OVER (the county) to dazzle the audience will musical performances! Lucky attendees will get to hear a variety of musical instruments and styles\, and admission is FREE\, so bring a neighbor! \n  \n 
URL:https://lionwhalemusic.com/event/student-recital-summer-style/
LOCATION:The Presbyterian Church on the Hill\, 10 Cold Indian Springs Rd\, Ocean Township\, NJ\, United States
END:VEVENT
END:VCALENDAR