BEGIN:VCALENDAR
VERSION:2.0
PRODID:-//Lion Whale Music - ECPv5.2.0//NONSGML v1.0//EN
CALSCALE:GREGORIAN
METHOD:PUBLISH
X-WR-CALNAME:Lion Whale Music
X-ORIGINAL-URL:https://lionwhalemusic.com
X-WR-CALDESC:Events for Lion Whale Music
BEGIN:VTIMEZONE
TZID:UTC
BEGIN:STANDARD
TZOFFSETFROM:+0000
TZOFFSETTO:+0000
TZNAME:UTC
DTSTART:20170101T000000
END:STANDARD
END:VTIMEZONE
BEGIN:VEVENT
DTSTART;TZID=UTC:20170708T100000
DTEND;TZID=UTC:20170708T140000
DTSTAMP:20260419T200635
CREATED:20170524T170800Z
LAST-MODIFIED:20170524T170943Z
UID:416-1499508000-1499522400@lionwhalemusic.com
SUMMARY:Student Recital — SUMMER EDITION!
DESCRIPTION:Bring your friends! Bring your neighbors! Bring Grandma and Grandpa! LionWhale students are showing off their hard work in our next Student Recital\, and it’s completely FREE! \nHit the “Get Info” tab at the top of this page to contact us.
URL:https://lionwhalemusic.com/event/student-recital-summer-edition-2/
LOCATION:The Presbyterian Church on the Hill\, 10 Cold Indian Springs Rd\, Ocean Township\, NJ\, United States
END:VEVENT
END:VCALENDAR