BEGIN:VCALENDAR
VERSION:2.0
PRODID:-//Lion Whale Music - ECPv5.2.0//NONSGML v1.0//EN
CALSCALE:GREGORIAN
METHOD:PUBLISH
X-WR-CALNAME:Lion Whale Music
X-ORIGINAL-URL:https://lionwhalemusic.com
X-WR-CALDESC:Events for Lion Whale Music
BEGIN:VTIMEZONE
TZID:UTC
BEGIN:STANDARD
TZOFFSETFROM:+0000
TZOFFSETTO:+0000
TZNAME:UTC
DTSTART:20180101T000000
END:STANDARD
END:VTIMEZONE
BEGIN:VEVENT
DTSTART;TZID=UTC:20180623T100000
DTEND;TZID=UTC:20180623T133000
DTSTAMP:20260419T153629
CREATED:20180615T141611Z
LAST-MODIFIED:20180615T141611Z
UID:579-1529748000-1529760600@lionwhalemusic.com
SUMMARY:Student Recital
DESCRIPTION:It’s that time again! LionWhale students have been working hard for weeks\, and they’re ready to strut their stuff\, musically. \n  \nDon’t forget — LionWhale recitals are free of charge\, so bring a friend!
URL:https://lionwhalemusic.com/event/student-recital-2/
LOCATION:The Presbyterian Church on the Hill\, 10 Cold Indian Springs Rd\, Ocean Township\, NJ\, United States
END:VEVENT
END:VCALENDAR