BEGIN:VCALENDAR
VERSION:2.0
PRODID:-//Lion Whale Music - ECPv5.2.0//NONSGML v1.0//EN
CALSCALE:GREGORIAN
METHOD:PUBLISH
X-WR-CALNAME:Lion Whale Music
X-ORIGINAL-URL:https://lionwhalemusic.com
X-WR-CALDESC:Events for Lion Whale Music
BEGIN:VTIMEZONE
TZID:UTC
BEGIN:STANDARD
TZOFFSETFROM:+0000
TZOFFSETTO:+0000
TZNAME:UTC
DTSTART:20150101T000000
END:STANDARD
END:VTIMEZONE
BEGIN:VEVENT
DTSTART;TZID=UTC:20150531T150000
DTEND;TZID=UTC:20150531T160000
DTSTAMP:20260419T163923
CREATED:20141120T153941Z
LAST-MODIFIED:20150521T144255Z
UID:283-1433084400-1433088000@lionwhalemusic.com
SUMMARY:Spring Teachers' Recital
DESCRIPTION:LW teachers blow your mind with a variety of fascinating music from the last three hundred years. Free and open to the public!
URL:https://lionwhalemusic.com/event/spring-teachers-recital/
LOCATION:Unity Church by the Shore\, 3508 Asbury Ave.\, Neptune Township\, NJ\, 07753\, United States
END:VEVENT
END:VCALENDAR