BEGIN:VCALENDAR
VERSION:2.0
PRODID:-//Lion Whale Music - ECPv5.2.0//NONSGML v1.0//EN
CALSCALE:GREGORIAN
METHOD:PUBLISH
X-WR-CALNAME:Lion Whale Music
X-ORIGINAL-URL:https://lionwhalemusic.com
X-WR-CALDESC:Events for Lion Whale Music
BEGIN:VTIMEZONE
TZID:UTC
BEGIN:STANDARD
TZOFFSETFROM:+0000
TZOFFSETTO:+0000
TZNAME:UTC
DTSTART:20170101T000000
END:STANDARD
END:VTIMEZONE
BEGIN:VEVENT
DTSTART;TZID=UTC:20170513T110000
DTEND;TZID=UTC:20170513T130000
DTSTAMP:20260419T163909
CREATED:20170405T004044Z
LAST-MODIFIED:20170405T004044Z
UID:409-1494673200-1494680400@lionwhalemusic.com
SUMMARY:Learn\, Paint\, and Listen — Baroque style!
DESCRIPTION:Join us at Bradley Brushstrokes for an afternoon of making art and learning about the Baroque style! Go home with your own painting! No previous music/art experience necessary.
URL:https://lionwhalemusic.com/event/learn-paint-and-listen-baroque-style/
LOCATION:Bradley Brushstrokes\, 708 Main Street\, Bradley Beach\, NJ\, 07720\, United States
END:VEVENT
END:VCALENDAR