BEGIN:VCALENDAR
VERSION:2.0
PRODID:-//Lion Whale Music - ECPv5.2.0//NONSGML v1.0//EN
CALSCALE:GREGORIAN
METHOD:PUBLISH
X-WR-CALNAME:Lion Whale Music
X-ORIGINAL-URL:http://lionwhalemusic.com
X-WR-CALDESC:Events for Lion Whale Music
BEGIN:VTIMEZONE
TZID:UTC
BEGIN:STANDARD
TZOFFSETFROM:+0000
TZOFFSETTO:+0000
TZNAME:UTC
DTSTART:20130101T000000
END:STANDARD
END:VTIMEZONE
BEGIN:VEVENT
DTSTART;VALUE=DATE:20131003
DTEND;VALUE=DATE:20131004
DTSTAMP:20260420T020728
CREATED:20130930T160511Z
LAST-MODIFIED:20130930T160639Z
UID:70-1380758400-1380844799@lionwhalemusic.com
SUMMARY:Saxophone Appreciation Day
DESCRIPTION:Saxophone Appreciation Day is a day when we honor the fallen saxophonists throughout history. \nFrom Mindi Abair to John Coltrane\, and beyond. Yes\, even Kenny G. \nAll blew some\, but some blew all. Let us never forget.
URL:http://lionwhalemusic.com/event/saxophone-appreciation-day/
LOCATION:LionWhale Music\, 123 Our Street\, Our Town
END:VEVENT
END:VCALENDAR