BEGIN:VCALENDAR
VERSION:2.0
PRODID:-//Lion Whale Music - ECPv5.2.0//NONSGML v1.0//EN
CALSCALE:GREGORIAN
METHOD:PUBLISH
X-WR-CALNAME:Lion Whale Music
X-ORIGINAL-URL:http://lionwhalemusic.com
X-WR-CALDESC:Events for Lion Whale Music
BEGIN:VTIMEZONE
TZID:UTC
BEGIN:STANDARD
TZOFFSETFROM:+0000
TZOFFSETTO:+0000
TZNAME:UTC
DTSTART:20140101T000000
END:STANDARD
END:VTIMEZONE
BEGIN:VEVENT
DTSTART;TZID=UTC:20140816T160000
DTEND;TZID=UTC:20140816T190000
DTSTAMP:20260419T191052
CREATED:20140814T234644Z
LAST-MODIFIED:20140814T235036Z
UID:257-1408204800-1408215600@lionwhalemusic.com
SUMMARY:Manasquan Fine Arts and Music Night
DESCRIPTION:Come see LionWhale students and teachers perform streetside at Manasquan’s Fine Arts and Music Night—this Saturday! \n\nCompletely free.
URL:http://lionwhalemusic.com/event/manasquan-fine-arts-and-music-night/
LOCATION:Main Street\, Manasquan\, Main Street\, Manasquan\, NJ\, United States
END:VEVENT
END:VCALENDAR