BEGIN:VCALENDAR
VERSION:2.0
PRODID:-//Lion Whale Music - ECPv5.2.0//NONSGML v1.0//EN
CALSCALE:GREGORIAN
METHOD:PUBLISH
X-WR-CALNAME:Lion Whale Music
X-ORIGINAL-URL:http://lionwhalemusic.com
X-WR-CALDESC:Events for Lion Whale Music
BEGIN:VTIMEZONE
TZID:UTC
BEGIN:STANDARD
TZOFFSETFROM:+0000
TZOFFSETTO:+0000
TZNAME:UTC
DTSTART:20140101T000000
END:STANDARD
END:VTIMEZONE
BEGIN:VEVENT
DTSTART;VALUE=DATE:20140206
DTEND;VALUE=DATE:20140207
DTSTAMP:20260420T001716
CREATED:20140209T013551Z
LAST-MODIFIED:20140209T013551Z
UID:180-1391644800-1391731199@lionwhalemusic.com
SUMMARY:GOT CoC Wine & Cheese Party
DESCRIPTION:The Greater Ocean Township Chamber of Commerce’s annual membership drive will be at Shore Antiques Center. Music by LionWhale teachers and students!
URL:http://lionwhalemusic.com/event/got-coc-wine-cheese-party/
END:VEVENT
END:VCALENDAR