BEGIN:VCALENDAR
VERSION:2.0
PRODID:-//Lion Whale Music - ECPv5.2.0//NONSGML v1.0//EN
CALSCALE:GREGORIAN
METHOD:PUBLISH
X-WR-CALNAME:Lion Whale Music
X-ORIGINAL-URL:http://lionwhalemusic.com
X-WR-CALDESC:Events for Lion Whale Music
BEGIN:VTIMEZONE
TZID:UTC
BEGIN:STANDARD
TZOFFSETFROM:+0000
TZOFFSETTO:+0000
TZNAME:UTC
DTSTART:20140101T000000
END:STANDARD
END:VTIMEZONE
BEGIN:VEVENT
DTSTART;TZID=UTC:20140215T150000
DTEND;TZID=UTC:20140215T170000
DTSTAMP:20260419T223535
CREATED:20140209T014312Z
LAST-MODIFIED:20140209T014312Z
UID:181-1392476400-1392483600@lionwhalemusic.com
SUMMARY:Chamber music concert
DESCRIPTION:A concert of chamber music with Laura DuBois (piano) and Joel DeWitt (violin)\, featuring compositions by Beethoven\, Franck\, and Chopin! \n$15 suggested donation.
URL:http://lionwhalemusic.com/event/chamber-music-concert/
LOCATION:Unity Church by the Shore\, 3508 Asbury Ave.\, Neptune Township\, NJ\, 07753\, United States
END:VEVENT
END:VCALENDAR