BEGIN:VCALENDAR
VERSION:2.0
PRODID:-//Lion Whale Music - ECPv5.2.0//NONSGML v1.0//EN
CALSCALE:GREGORIAN
METHOD:PUBLISH
X-WR-CALNAME:Lion Whale Music
X-ORIGINAL-URL:http://lionwhalemusic.com
X-WR-CALDESC:Events for Lion Whale Music
BEGIN:VTIMEZONE
TZID:UTC
BEGIN:STANDARD
TZOFFSETFROM:+0000
TZOFFSETTO:+0000
TZNAME:UTC
DTSTART:20140101T000000
END:STANDARD
END:VTIMEZONE
BEGIN:VEVENT
DTSTART;TZID=UTC:20141026T170000
DTEND;TZID=UTC:20141026T180000
DTSTAMP:20260419T172510
CREATED:20140814T235537Z
LAST-MODIFIED:20140814T235821Z
UID:260-1414342800-1414346400@lionwhalemusic.com
SUMMARY:Autumn Teachers' Recital
DESCRIPTION:Come enjoy a laid-back concert with performances by LionWhale Music teachers. We guarantee you’ll learn something new and hear something you’ve never heard before. \n  \nThe concert is completely free (so bring your friends!)\, but we will be collecting money for a local charity if you’d like to contribute.
URL:http://lionwhalemusic.com/event/autumn-teachers-recital/
LOCATION:Unity Church by the Shore\, 3508 Asbury Ave.\, Neptune Township\, NJ\, 07753\, United States
END:VEVENT
END:VCALENDAR